BEGIN:VCALENDAR
VERSION:2.0
PRODID:-//eventon.com NONSGML v1.0//EN
BEGIN:VEVENT
UID:69e7371a74159
DTSTAMP:20260421T083642
DTSTART:20230930T090000Z
DTEND:20231001T140000Z
LOCATION:BioZéntrica Avenida Casablanca número 16\,  local derecha
SUMMARY:Curso de Reflexología Podal Holística
DESCRIPTION: CURSO DE REFLEXOLOGÍA PODAL HOLÍSTICA Se trata de un curso creado por Bea Gascón con una visión holística y energética\,  en el que el objetivo no es sólo que aprendas cada uno de los puntos reflejos que hay en el pie\,  su relación con otras partes del cuerpo y los[..]
END:VEVENT
END:VCALENDAR