BEGIN:VCALENDAR
VERSION:2.0
PRODID:-//eventon.com NONSGML v1.0//EN
BEGIN:VEVENT
UID:69e7335955e6e
DTSTAMP:20260421T082041
DTSTART:20220213T093000Z
DTEND:20220213T140000Z
LOCATION:BioZéntrica Avenida Casablanca número 16\,  local derecha
SUMMARY:Taller de Constelaciones Familiares
DESCRIPTION: ¡Abrimos un nuevo Taller de Constelaciones Familiares! ⠀ El domingo 13 de Febrero\,  tendremos la suerte de tener un Taller de Constelaciones Familiares facilitado por Reyes Santillana. Los espacios de Sanación grupal que se crean en estos talleres pueden ayudarte a comprender y transitar las limitaciones que estés sintiendo en[..]
END:VEVENT
END:VCALENDAR