BEGIN:VCALENDAR
VERSION:2.0
PRODID:-//eventon.com NONSGML v1.0//EN
BEGIN:VEVENT
UID:69e88a6aa6cd5
DTSTAMP:20260422T084426
DTSTART:20211218T100000Z
DTEND:20211218T130000Z
LOCATION:BioZéntrica Avenida Casablanca número 16\,  local derecha
SUMMARY:Taller Arcángel Miguel
DESCRIPTION: TALLER ARCÁNGEL MIGUEL ¿Cómo sería tu vida si tomaras de la mano a los ángeles y arcángeles y te decidieras a transformarte para vivir en total plenitud\,  aún a pesar de lo que sucede en el entorno? En este Taller:  - Veremos quienes son los Ángeles y Arcángeles. - Conoceremos[..]
END:VEVENT
END:VCALENDAR